BEGIN:VCALENDAR
VERSION:2.0
PRODID:-//wp-events-plugin.com//7.2.3.1//EN
TZID:Europe/Zurich
X-WR-TIMEZONE:Europe/Zurich
BEGIN:VEVENT
UID:16@chuestylefengshui.ch
DTSTART;TZID=Europe/Zurich:20170624T093000
DTEND;TZID=Europe/Zurich:20170625T173000
DTSTAMP:20170404T094953Z
URL:https://chuestylefengshui.ch/events/bazi-horoscope-chinois-niveau-1-5-
 jrs/
SUMMARY:Bazi - Horoscope Chinois Niveau 1 (Part. 1)
DESCRIPTION:Ba zi 1 est un cours approfondi qui entre dans les caractérist
 iques des 5 éléments et en particuliers dans les aspects yin et yang de 
 ces éléments. Ce cours est le tremplin idéal pour continuer les études
  Chue Style car il n’augmente pas seulement la capacité de l’étudian
 t à sélectionner le bon élément de soutient mais fournit aussi une com
 préhension approfondie de ces éléments à appliquer au Chue Style Feng 
 shui.
ATTACH;FMTTYPE=image/jpeg:https://chuestylefengshui.ch/wp-content/uploads/
 2016/12/horoscope-chinois-e1491162534770.jpg
CATEGORIES:Postgrade
LOCATION:Morges\, Passage de la Couronne 2\, 1110 Morges\, 1110\, Morges\, 
 Suisse
GEO:46.50848329999999;6.497201600000039
X-APPLE-STRUCTURED-LOCATION;VALUE=URI;X-ADDRESS=Passage de la Couronne 2\, 
 1110 Morges\, 1110\, Morges\, Suisse;X-APPLE-RADIUS=100;X-TITLE=Morges:geo
 :46.50848329999999,6.497201600000039
END:VEVENT
BEGIN:VTIMEZONE
TZID:Europe/Zurich
X-LIC-LOCATION:Europe/Zurich
BEGIN:DAYLIGHT
DTSTART:20170326T030000
TZOFFSETFROM:+0100
TZOFFSETTO:+0200
TZNAME:CEST
END:DAYLIGHT
END:VTIMEZONE
END:VCALENDAR