BEGIN:VCALENDAR
VERSION:2.0
PRODID:-//wp-events-plugin.com//7.2.3.1//EN
TZID:Europe/Zurich
X-WR-TIMEZONE:Europe/Zurich
BEGIN:VEVENT
UID:243@chuestylefengshui.ch
DTSTART;TZID=Europe/Zurich:20250927T093000
DTEND;TZID=Europe/Zurich:20250928T160000
DTSTAMP:20250702T090725Z
URL:https://chuestylefengshui.ch/events/chue-style-feng-shui-foundation-co
 urse-a/
SUMMARY:Chue Style Feng Shui Foundation Course A
DESCRIPTION:Les Fondamentaux en Feng Shui Chue style. 2 jours de formation 
 ouverte à tous pour harmoniser votre lieu de vie. Ce cours de base sur le
  Feng Shui est ouvert à tous ceux qui souhaitent en apprendre davantage s
 ur le sujet. Il est une base essentielle dans la compréhension des princi
 pes du Feng Shui. Formation des fondamentaux Chue Style Feng Shui selon l'
 enseignement de Grand Master Chan Kun Wha.\nCette session est organisée s
 ur le week-end\, à Jussy.\nAu cours de ce Module A - Fondation en style C
 hue Feng Shui\,vous apprendrez quelques principes fondamentaux du Feng Shu
 i qui vous permettront d'évaluer votre propre maison / lieu de travail en
  appliquant des techniques simples de Feng Shui pour équilibrer et harmon
 iser votre environnement et votre vie.\nSUJETS TRAITES :   le Chi\, Yin 
 et Yang \, cinq éléments\, animaux célestes\, 8 trigrammes\, Lo-shu\nÀ
  la fin des 2 jours\, l'étudiant saura comment apporter des changements d
 e base pour obtenir des résultats bénéfiques dans son propre environnem
 ent familial et professionnel.  Au terme de cette formation\, un certific
 at de présence est délivré. Avec ou sans connaissance préalable du Fe
 ng Shui\, ce cours vise à équiper les étudiants de concepts clairs qu'i
 ls pourront appliquer dans tous les environnements.Il ouvre également la 
 possibilité de suivre le cursus professionnel constitué des Modules B et
  C. Le Module A est requis pour participer à tous les autres cours Chue S
 tyle.\n\nPrix:             CHF 380\,--\nDurée:           
  2 jours/12 hrs\nLieu :            Jussy (Genève)\n\nInscription et dema
 nde de renseignement : archido@bluewin.ch\, www.archido.ch\nARCHIDO. Domin
 ique Anne Gros Rotach. Enseignante et Consultante Chue Style Feng Shui. \
 n\n&nbsp\;
ATTACH;FMTTYPE=image/jpeg:https://chuestylefengshui.ch/wp-content/uploads/
 2025/07/Chue-Style-Feng-Shui-Foundation-Course-A-2-jours_Atelier-de-Lullie
 r.png
CATEGORIES:Diplôme Professionnel,Pour Tous
LOCATION:L'Atelier de Lullier\, route de Lullier 49\, 1254 Jussy\, Jussy\, 
 1254\, Genève\, Suisse
GEO:46.229141;6.257233
X-APPLE-STRUCTURED-LOCATION;VALUE=URI;X-ADDRESS=route de Lullier 49\, 1254 
 Jussy\, Jussy\, 1254\, Genève\, Suisse;X-APPLE-RADIUS=100;X-TITLE=L'Ateli
 er de Lullier:geo:46.229141,6.257233
END:VEVENT
BEGIN:VTIMEZONE
TZID:Europe/Zurich
X-LIC-LOCATION:Europe/Zurich
BEGIN:DAYLIGHT
DTSTART:20250330T030000
TZOFFSETFROM:+0100
TZOFFSETTO:+0200
TZNAME:CEST
END:DAYLIGHT
END:VTIMEZONE
END:VCALENDAR