BEGIN:VCALENDAR
VERSION:2.0
PRODID:-//wp-events-plugin.com//7.2.3.1//EN
TZID:Europe/Zurich
X-WR-TIMEZONE:Europe/Zurich
BEGIN:VEVENT
UID:173@chuestylefengshui.ch
DTSTART;TZID=Europe/Zurich:20230422T093000
DTEND;TZID=Europe/Zurich:20230423T163000
DTSTAMP:20230411T120230Z
URL:https://chuestylefengshui.ch/events/cours-de-base-foundation-in-chue-s
 tyle-feng-shui-module-a-10/
SUMMARY:Module A – Bases du Feng Shui Chue style - 2 jours
DESCRIPTION:Ce cours sur les fondamentaux en Feng Shui Chue Style est une f
 ormation de base  sur le Feng Shu. Il est ouvert à tous ceux qui souhaite
 nt en apprendre davantage sur le sujet. Il est une base essentielle dans l
 a compréhension des principes du Feng Shui. Formation des fondamentaux Ch
 ue Style Feng Shui selon l'enseignement de Grand Master Chan Kun Wha.\n\nA
 u cours de ce Module A - Fondation en style Chue Feng Shui\,vous apprendre
 z quelques principes fondamentaux du Feng Shui qui vous permettront d'éva
 luer votre propre maison / lieu de travail en appliquant des techniques si
 mples de Feng Shui pour équilibrer et harmoniser votre environnement et v
 otre vie.\nSUJETS TRAITES :   le Chi\, Yin et Yang \, cinq éléments\, 
 animaux célestes\, 8 trigrammes\, Lo-shu\nÀ la fin des 2 jours\, l'étud
 iant saura comment apporter des changements de base pour obtenir des résu
 ltats bénéfiques dans son propre environnement familial et professionnel
 .  Au terme de cette formation\, un certificat de présence est délivré
 . Avec ou sans connaissance préalable du Feng Shui\, ce cours vise à é
 quiper les étudiants de concepts clairs qu'ils pourront appliquer dans to
 us les environnements.Il ouvre également la possibilité de suivre le cur
 sus professionnel constitué des Modules B et C. Le Module A est requis po
 ur participer à tous les autres cours Chue Style.\n\nPrix:        
         CHF 380\,--\nDurée:            2 jours/12 hrs\n\nLie
 u :              Crans-Montana\n\n&nbsp\;\n\nInscription et demande
  de renseignement : archido@bluewin.ch\nDominique Anne Gros Rotach. Enseig
 nante et Consultante Chue Style Feng Shui. \n\n&nbsp\;
ATTACH;FMTTYPE=image/jpeg:https://chuestylefengshui.ch/wp-content/uploads/
 2023/02/Module-A-avril-Jussy-2023-pdf.jpg
CATEGORIES:Diplôme Professionnel,Pour Tous
LOCATION:ARCHIDO\, 1 rue des Bâlois\, Montana\, 3963\, Valais\, Suisse
GEO:46.318381;7.500342
X-APPLE-STRUCTURED-LOCATION;VALUE=URI;X-ADDRESS=1 rue des Bâlois\, Montana
 \, 3963\, Valais\, Suisse;X-APPLE-RADIUS=100;X-TITLE=ARCHIDO:geo:46.318381
 ,7.500342
END:VEVENT
BEGIN:VTIMEZONE
TZID:Europe/Zurich
X-LIC-LOCATION:Europe/Zurich
BEGIN:DAYLIGHT
DTSTART:20230326T030000
TZOFFSETFROM:+0100
TZOFFSETTO:+0200
TZNAME:CEST
END:DAYLIGHT
END:VTIMEZONE
END:VCALENDAR