BEGIN:VCALENDAR
VERSION:2.0
PRODID:-//wp-events-plugin.com//7.2.3.1//EN
TZID:Europe/Zurich
X-WR-TIMEZONE:Europe/Zurich
BEGIN:VEVENT
UID:261@chuestylefengshui.ch
DTSTART;TZID=Europe/Zurich:20260425T083000
DTEND;TZID=Europe/Zurich:20260512T113000
DTSTAMP:20260420T185525Z
URL:https://chuestylefengshui.ch/events/cours-dinitiation-aux-fondamentaux
 -en-feng-shui-a-2/
SUMMARY:Cours d'initiation aux fondamentaux en Feng Shui - A
DESCRIPTION:Date du cours:\n\n- samedi 25 avril de 8h30 à 11h30\n\n- samed
 i 2 mai de 8h30 à 11h30\n\n- samedi 9 mai de 8h30 à 11h30\n\n- mardi 12 
 mai de 17h30 à 20h30\n\n&nbsp\;\n\nLieu du cours:\n\nSatigny (Genève)\n\
 n&nbsp\;\n\nVous apprendrez les notions et les outils de base simples et e
 fficaces du feng shui\, premiers pas très importants établis par Grand M
 aître Chan.\nCommencez à les appliquer chez vous.\nChangez votre regard 
 sur le monde par son observation. Améliorez par ce biais votre santé et 
 votre prospérité.\n(appartement\, maison\, bureau\, commerce)\n\nCours d
 ispensé par un architecte et consultant feng shui avec plus de vingt ans 
 d'expérience.\n\nOuvert à tous\, sans notions préalables. Ce cours est 
 conseillé en particulier aux professionnels : architectes\, planificateur
 s\, projeteurs\, décorateurs\, paysagistes\, décideurs\, etc. car les pr
 incipes sont clairs et pragmatiques.\n(12 heures de cours\, support de cou
 rs complet et attestation de participation ouvrant aux cours variés et pl
 us avancés de la Fondation Chue)\n\n&nbsp\;\n\n&nbsp\;\n\nPlus d'informat
 ions:\n\n+41 (0) 79 704 88 73\n\ninfo@fengshui-architecture.ch
ATTACH;FMTTYPE=image/jpeg:https://chuestylefengshui.ch/wp-content/uploads/
 2026/03/Alberto-Pola_Module-A-2026-affiche-generale-pdf.jpg
CATEGORIES:Pour Tous
END:VEVENT
BEGIN:VTIMEZONE
TZID:Europe/Zurich
X-LIC-LOCATION:Europe/Zurich
BEGIN:DAYLIGHT
DTSTART:20260329T030000
TZOFFSETFROM:+0100
TZOFFSETTO:+0200
TZNAME:CEST
END:DAYLIGHT
END:VTIMEZONE
END:VCALENDAR