BEGIN:VCALENDAR
VERSION:2.0
PRODID:-//wp-events-plugin.com//7.2.3.1//EN
TZID:Europe/Zurich
X-WR-TIMEZONE:Europe/Zurich
BEGIN:VEVENT
UID:164@chuestylefengshui.ch
DTSTART;TZID=Europe/Zurich:20230909T090000
DTEND;TZID=Europe/Zurich:20230911T173000
DTSTAMP:20230411T120443Z
URL:https://chuestylefengshui.ch/events/cours-diplomant-module-c-session-6
 /
SUMMARY:Module C - Cours de formation professionnelle en Feng Shui Chue sty
 le - 24 jours\, Session 6
DESCRIPTION:Minimum de 24 jours/168 heures – Certificat de présence – 
 ouvert aux étudiants qui ont terminé les modules A et B.\nCe cours de fo
 rmation professionnelle comprend une vaste théorie ainsi que des consulta
 tions pratiques. De nombreux calculs plus avancés sont ajoutés au progra
 mme déjà riche\, afin que l’étudiant puisse élargir sa compréhensio
 n des impacts du Feng Shui sur tout type de propriété\, ville ou environ
 nement urbain.\n\nAu cours du module C\, les méthodes Chue Style enseign
 ées aident à différencier le calibre de ces praticiens et consultants F
 eng Shui. Ils sont présentés dans un format complet pour guider les él
 èves dans le développement des compétences nécessaires pour identifie
 r et résoudre les problèmes lors d’une consultation.\n\nApprendre à 
 être un consultant Feng Shui nécessite de connaître les effets du temps
  dans l’espace et de comprendre le destin d’une personne. Ainsi\, le c
 alendrier de 10.000 ans est enseigné comme une base pour l’apprentissag
 e de la sélection de la date favorable et quatre piliers chinois Horoscop
 es (Ba Zi). Dans le style Chue Feng Shui nous utilisons la calligraphie ch
 inoise et la prononciation cantonaise pour la terminologie Feng Shui en cl
 asse. Nous utilisons également notre propre boussole de style Yuen Hom Ch
 ue conçue par le Grand Maître Chan.\nCe cours de 24 jours est enseigné 
 sur 8 sessions. Réservations sur :  laurent@fengshui-consultant.ch\n&nb
 sp\;\n\nDates des prochaines sessions : \n11/12/13 novembre 2023\n27/28/2
 9 janvier 2024\n&nbsp\;\n\nBREF APERÇU DU PROGRAMME DE COURS :\n\n 	Cale
 ndrier de 10'000 ans\; apprendre à lire le calendrier\; ouvrir une date\n
  	Horoscopes chinois Ba Zi – Construire un graphique à quatre piliers\n
  	Douze palais\n 	Sam Hap Flying Star\n 	Sam Hap Double Mountain – « R
 escue the Poor »\n 	64 hexagrammes Yuen Hom\n 	Lap Yang Elements\n 	Num
 éros manquants\n 	72 dragons\, 120 Fin Kam\n 	Ecole des Formes\n 	Les 24 
 étoiles célestes impériales\n 	Feng Shui Ruban Métrique\n 	Boussole Ch
 ue Style Yuen Hom\n 	Consultations Feng Shui : procédures\, méthodes et
  conclusions\n 	Placement pour l’eau\nEt bien plus encore…\n\nMatérie
 l recommandé pour la classe : Budget cliquez sur le lien suivant\n\n 	Ca
 lendrier de 10'000 ans\n 	Yuen Hom Compas\n 	Feng Shui ruban métrique\n\n
 &nbsp\;\n\nPour tous renseignements : Master Laurent Paillard (ICD)\, laur
 ent@fengshui-consultant.ch.
CATEGORIES:Diplôme Professionnel
LOCATION:The Eastern Guardian Angel\, Rue Saint-Maurice 4\, Neuchâtel\, Su
 isse\, 2000\, Suisse\, Suisse
GEO:46.991109;6.930761
X-APPLE-STRUCTURED-LOCATION;VALUE=URI;X-ADDRESS=Rue Saint-Maurice 4\, Neuch
 âtel\, Suisse\, 2000\, Suisse\, Suisse;X-APPLE-RADIUS=100;X-TITLE=The Eas
 tern Guardian Angel:geo:46.991109,6.930761
END:VEVENT
BEGIN:VTIMEZONE
TZID:Europe/Zurich
X-LIC-LOCATION:Europe/Zurich
BEGIN:DAYLIGHT
DTSTART:20230326T030000
TZOFFSETFROM:+0100
TZOFFSETTO:+0200
TZNAME:CEST
END:DAYLIGHT
END:VTIMEZONE
END:VCALENDAR