BEGIN:VCALENDAR
VERSION:2.0
PRODID:-//wp-events-plugin.com//7.2.3.1//EN
TZID:Europe/Zurich
X-WR-TIMEZONE:Europe/Zurich
BEGIN:VEVENT
UID:137@chuestylefengshui.ch
DTSTART;TZID=Europe/Zurich:20220528T093000
DTEND;TZID=Europe/Zurich:20220529T163000
DTSTAMP:20220407T160855Z
URL:https://chuestylefengshui.ch/events/i-ching-dice-prediction-part-ii/
SUMMARY:I-Ching Dice Prediction (Part II)
DESCRIPTION:Cours de 4 jours pour les personnes ayant suivis le module A (I
 ntroduction au Feng Shui traditionnel de Style Chue) ou ayant des connaiss
 ances des tiges et branches\, du calendrier chinois et des trigrammes. \n
 \nLes sujets traités sont :\n\nMétéo \, Feng Shui d’une propriété
 \, mariage\, Conception d’un enfant\, Examens\, promotion scolaire\, arg
 ent\, vacances\, objets perdus\, maladie\, Procès et tribunal\, destin de
  l’année\, accompagnés d' exercices pratiques.\nLe cours de I Ching av
 ec les dés aura lieu sur 2 week-ends : \nPartie I : 6-7 mai 2022\n\nHora
 ire : 9h30-12h30 – 13h30-16.30 \n\nPrix pour le cours de I Ching avec l
 es dés : CHF 1200. — pour les 4 jours \n\nPaiement d'avance\, à réce
 ption de la confirmation d'inscription.\n\nLes dés sont offerts au début
  du cours \n\nEnseignement par Laurent Paillard\, agréé par la Fondatio
 n Chue\, fondateur Me Chan Kun Wah.\n\nContact : Tel +41 79 301.29.02\, l
 aurent@fengshui-consultant.ch
ATTACH;FMTTYPE=image/jpeg:https://chuestylefengshui.ch/wp-content/uploads/
 2017/02/P1060293-e1491296776502.jpg
CATEGORIES:Postgrade,Pour Tous
LOCATION:The Eastern Guardian Angel\, Rue Saint-Maurice 4\, Neuchâtel\, Su
 isse\, 2000\, Suisse\, Suisse
GEO:46.991109;6.930761
X-APPLE-STRUCTURED-LOCATION;VALUE=URI;X-ADDRESS=Rue Saint-Maurice 4\, Neuch
 âtel\, Suisse\, 2000\, Suisse\, Suisse;X-APPLE-RADIUS=100;X-TITLE=The Eas
 tern Guardian Angel:geo:46.991109,6.930761
END:VEVENT
BEGIN:VTIMEZONE
TZID:Europe/Zurich
X-LIC-LOCATION:Europe/Zurich
BEGIN:DAYLIGHT
DTSTART:20220327T030000
TZOFFSETFROM:+0100
TZOFFSETTO:+0200
TZNAME:CEST
END:DAYLIGHT
END:VTIMEZONE
END:VCALENDAR