BEGIN:VCALENDAR
VERSION:2.0
PRODID:-//wp-events-plugin.com//7.2.3.1//EN
TZID:Europe/Zurich
X-WR-TIMEZONE:Europe/Zurich
BEGIN:VEVENT
UID:122@chuestylefengshui.ch
DTSTART;TZID=Europe/Zurich:20210424T093000
DTEND;TZID=Europe/Zurich:20210425T163000
DTSTAMP:20210411T170329Z
URL:https://chuestylefengshui.ch/events/initiation-au-i-ching-avec-les-des
 -part-i-2/
SUMMARY:Initiation au I-Ching avec les dés (part. I)
DESCRIPTION:Cours de 4 jours pour les personnes ayant suivis le module A (I
 ntroduction au Feng Shui traditionnel de Style Chue) ou ayant des connaiss
 ances des tiges et branches\, du calendrier chinois et des trigrammes. \n
 \nLe cours de I Ching avec les dés aura lieu sur 2 week-ends : \n\n24/25
  avril ou 1er et 2 mai et 29/30 mai 2021 \n\nHoraire : 9h30-12h30 – 13h
 30-16.30 \n\nPrix pour le cours de I Ching avec les dés : CHF 1200. — 
 pour les 4 jours \n\nLes dés sont offerts au début du cours \n\nEnseig
 nement par Laurent Paillard\, agréé par la Fondation Chue\, fondateur Me
  Chan Kun Wah.\n\nContact : Tel +41 79 301.29.02\, laurent@fengshui-consu
 ltant.ch
ATTACH;FMTTYPE=image/jpeg:https://chuestylefengshui.ch/wp-content/uploads/
 2017/02/P1060293-e1491296776502.jpg
CATEGORIES:Postgrade,Pour Tous
LOCATION:The Eastern Guardian Angel\, Rue Saint-Maurice 4\, Neuchâtel\, Su
 isse\, 2000\, Suisse\, Suisse
GEO:46.991109;6.930761
X-APPLE-STRUCTURED-LOCATION;VALUE=URI;X-ADDRESS=Rue Saint-Maurice 4\, Neuch
 âtel\, Suisse\, 2000\, Suisse\, Suisse;X-APPLE-RADIUS=100;X-TITLE=The Eas
 tern Guardian Angel:geo:46.991109,6.930761
END:VEVENT
BEGIN:VTIMEZONE
TZID:Europe/Zurich
X-LIC-LOCATION:Europe/Zurich
BEGIN:DAYLIGHT
DTSTART:20210328T030000
TZOFFSETFROM:+0100
TZOFFSETTO:+0200
TZNAME:CEST
END:DAYLIGHT
END:VTIMEZONE
END:VCALENDAR