BEGIN:VCALENDAR
VERSION:2.0
PRODID:-//wp-events-plugin.com//7.2.3.1//EN
TZID:Europe/Zurich
X-WR-TIMEZONE:Europe/Zurich
BEGIN:VEVENT
UID:132@chuestylefengshui.ch
DTSTART;TZID=Europe/Zurich:20220221T093000
DTEND;TZID=Europe/Zurich:20220221T173000
DTSTAMP:20220120T195820Z
URL:https://chuestylefengshui.ch/events/introduction-au-feng-shui-module-a
 -j-2/
SUMMARY:Cours de base "Foundation in Chue Style Feng Shui" (Module A)\; J. 
 I
DESCRIPTION:Ce cours de base sur le Feng Shui est ouvert à tous ceux qui s
 ouhaitent en apprendre davantage sur le sujet. Il est une base essentielle
  dans la compréhension des principes du Feng Shui. Formation des fondamen
 taux Chue Style Feng Shui selon l'enseignement de Grand Master Chan Kun Wh
 a.\nCette session est organisée sur 2 jours\, Lundi 21 et Jeudi 24 févri
 er 2022\, Jussy.\nAu cours de ce Module A - Fondation en style Chue Feng S
 hui\,vous apprendrez quelques principes fondamentaux du Feng Shui qui vous
  permettront d'évaluer votre propre maison / lieu de travail en appliquan
 t des techniques simples de Feng Shui pour équilibrer et harmoniser votre
  environnement et votre vie.\nSUJETS TRAITES :   le Chi\, Yin et Yang \,
  cinq éléments\, animaux célestes\, 8 trigrammes\, Lo-shu\nÀ la fin de
 s 2 jours\, l'étudiant saura comment apporter des changements de base pou
 r obtenir des résultats bénéfiques dans son propre environnement famili
 al et professionnel.  Au terme de cette formation\, un certificat de pré
 sence est délivré. Avec ou sans connaissance préalable du Feng Shui\, 
 ce cours vise à équiper les étudiants de concepts clairs qu'ils pourron
 t appliquer dans tous les environnements.Il ouvre également la possibilit
 é de suivre le cursus professionnel constitué des Modules B et C. Le Mod
 ule A est requis pour participer à tous les autres cours Chue Style.\n\nP
 rix:                CHF 380\,--\nDurée:            2 j
 ours/12 hrs\n\nInscription et demande de renseignement : archido@bluewin.c
 h\nDominique Anne Gros Rotach. Enseignante et Consultante Chue Style Feng 
 Shui. \n\n&nbsp\;
ATTACH;FMTTYPE=image/jpeg:https://chuestylefengshui.ch/wp-content/uploads/
 2021/12/Flyer-cours-FS-Module-A-2022-pdf.jpg
CATEGORIES:Diplôme Professionnel,Pour Tous
LOCATION:L'Atelier de Lullier\, route de Lullier 49\, 1254 Jussy\, Jussy\, 
 1254\, Genève\, Suisse
GEO:46.229141;6.257233
X-APPLE-STRUCTURED-LOCATION;VALUE=URI;X-ADDRESS=route de Lullier 49\, 1254 
 Jussy\, Jussy\, 1254\, Genève\, Suisse;X-APPLE-RADIUS=100;X-TITLE=L'Ateli
 er de Lullier:geo:46.229141,6.257233
END:VEVENT
BEGIN:VTIMEZONE
TZID:Europe/Zurich
X-LIC-LOCATION:Europe/Zurich
BEGIN:STANDARD
DTSTART:20211031T020000
TZOFFSETFROM:+0200
TZOFFSETTO:+0100
TZNAME:CET
END:STANDARD
END:VTIMEZONE
END:VCALENDAR