BEGIN:VCALENDAR
VERSION:2.0
PRODID:-//wp-events-plugin.com//7.2.3.1//EN
TZID:Europe/Zurich
X-WR-TIMEZONE:Europe/Zurich
BEGIN:VEVENT
UID:62@chuestylefengshui.ch
DTSTART;TZID=Europe/Zurich:20181124T093000
DTEND;TZID=Europe/Zurich:20181125T173000
DTSTAMP:20181008T141356Z
URL:https://chuestylefengshui.ch/events/module-a-11/
SUMMARY:Module A
DESCRIPTION:Ce cours est une introduction au Feng Shui de style Chue. Il co
 mprend 12 heures de cours enseignés sur 2 jours ou sessions. A la fin de
  ce module\, les participants reçoivent une attestation signée par l'ens
 eignant agréé.\n\nCe cours est une introduction au Feng Shui Chue Style 
 selon l’enseignement de Maître Chan Kun Wah.\n\nPour plus de détails\
 , voir nos pages "Devenir praticien"\, sous l'onglet Module A.\n\nPrix : F
 r. 340.-. Les prix s'entendent sans les repas.\n\nInscription : archido@bl
 uewin.ch ou 022 759 80 01\n\nEnseignante : Dominique Gros Rotach\, Tél. +
 41 22 759 80 01
CATEGORIES:Diplôme Professionnel
LOCATION:L'Atelier de Lullier\, route de Lullier 49\, 1254 Jussy\, Jussy\, 
 1254\, Genève\, Suisse
GEO:46.229141;6.257233
X-APPLE-STRUCTURED-LOCATION;VALUE=URI;X-ADDRESS=route de Lullier 49\, 1254 
 Jussy\, Jussy\, 1254\, Genève\, Suisse;X-APPLE-RADIUS=100;X-TITLE=L'Ateli
 er de Lullier:geo:46.229141,6.257233
END:VEVENT
BEGIN:VTIMEZONE
TZID:Europe/Zurich
X-LIC-LOCATION:Europe/Zurich
BEGIN:STANDARD
DTSTART:20181028T020000
TZOFFSETFROM:+0200
TZOFFSETTO:+0100
TZNAME:CET
END:STANDARD
END:VTIMEZONE
END:VCALENDAR