BEGIN:VCALENDAR
VERSION:2.0
PRODID:-//wp-events-plugin.com//7.2.3.1//EN
TZID:Europe/Zurich
X-WR-TIMEZONE:Europe/Zurich
BEGIN:VEVENT
UID:3@chuestylefengshui.ch
DTSTART;TZID=Europe/Zurich:20170624T093000
DTEND;TZID=Europe/Zurich:20170625T173000
DTSTAMP:20170402T182122Z
URL:https://chuestylefengshui.ch/events/module-a-3/
SUMMARY:Module A - session 3
DESCRIPTION:uiosdauiosdfjhdfjdf\nsdjhsdfjhsdfjhdf
CATEGORIES:Diplôme Professionnel
LOCATION:Swissfengshui\, Rue Neuve 2\, Sainte Croix\, 1450\, Suisse
GEO:46.8234438;6.501037999999994
X-APPLE-STRUCTURED-LOCATION;VALUE=URI;X-ADDRESS=Rue Neuve 2\, Sainte Croix\
 , 1450\, Suisse;X-APPLE-RADIUS=100;X-TITLE=Swissfengshui:geo:46.8234438,6.
 501037999999994
END:VEVENT
BEGIN:VTIMEZONE
TZID:Europe/Zurich
X-LIC-LOCATION:Europe/Zurich
BEGIN:DAYLIGHT
DTSTART:20170326T030000
TZOFFSETFROM:+0100
TZOFFSETTO:+0200
TZNAME:CEST
END:DAYLIGHT
END:VTIMEZONE
END:VCALENDAR