BEGIN:VCALENDAR
VERSION:2.0
PRODID:-//wp-events-plugin.com//7.2.3.1//EN
TZID:Europe/Zurich
X-WR-TIMEZONE:Europe/Zurich
BEGIN:VEVENT
UID:47@chuestylefengshui.ch
DTSTART;TZID=Europe/Zurich:20180421T093000
DTEND;TZID=Europe/Zurich:20180422T173000
DTSTAMP:20180327T113732Z
URL:https://chuestylefengshui.ch/events/module-a-8/
SUMMARY:Module A
DESCRIPTION:Ce cours est une introduction au Feng Shui de style Chue. Il co
 mprend 12 heures de cours enseignés sur 2 jours ou sessions. A la fin de
  ce module\, les participants reçoivent une attestation signée par l'ens
 eignant agréé.\n\nPour plus de détails\, voir nos pages "Devenir pratic
 ien"\, sous l'onglet Module A. Les prix s'entendent sans les repas.\n\nEns
 eignante : Dominique Gros Rotach\, Tél. +41 22 759 80 01
CATEGORIES:Diplôme Professionnel
LOCATION:L'Atelier de Lullier\, route de Lullier 49\, 1254 Jussy\, Jussy\, 
 1254\, Genève\, Suisse
GEO:46.229141;6.257233
X-APPLE-STRUCTURED-LOCATION;VALUE=URI;X-ADDRESS=route de Lullier 49\, 1254 
 Jussy\, Jussy\, 1254\, Genève\, Suisse;X-APPLE-RADIUS=100;X-TITLE=L'Ateli
 er de Lullier:geo:46.229141,6.257233
END:VEVENT
BEGIN:VTIMEZONE
TZID:Europe/Zurich
X-LIC-LOCATION:Europe/Zurich
BEGIN:DAYLIGHT
DTSTART:20180325T030000
TZOFFSETFROM:+0100
TZOFFSETTO:+0200
TZNAME:CEST
END:DAYLIGHT
END:VTIMEZONE
END:VCALENDAR