BEGIN:VCALENDAR
VERSION:2.0
PRODID:-//wp-events-plugin.com//7.2.3.1//EN
TZID:Europe/Zurich
X-WR-TIMEZONE:Europe/Zurich
BEGIN:VEVENT
UID:209@chuestylefengshui.ch
DTSTART;TZID=Europe/Zurich:20240302T090000
DTEND;TZID=Europe/Zurich:20240303T170000
DTSTAMP:20231228T165522Z
URL:https://chuestylefengshui.ch/events/module-a-cours-dinitiation-fondame
 ntaux/
SUMMARY:Module A - cours d'initiation - fondamentaux
DESCRIPTION:Vous apprendrez les notions et les outils de base du feng shui 
 et comment les manier de manière simple et en bénéficier à travers vot
 re environnement (appartement\, maison\, bureau).\nOuvert à tous\, sans n
 otions préalables et conseillé en particulier aux planificateurs\, proje
 teurs et décideurs.\nCe cours et les connaissances acquises vous permettr
 ont ensuite d'accéder aux nombreux cours de perfectionnement proposés pa
 r la Chue Fengshui Foundation (www.chuefoundation.org).\n\n2 jours pour 12
  heures de cours en présentiel début 2024 (manuel de 48 pages inclus)\n\
 nlieu : Satigny\, Genève\n\nrenseignez-vous : info@fengshui-architecture.
 ch\nwww.fengshui-architecture.ch\n
ATTACH;FMTTYPE=image/jpeg:https://chuestylefengshui.ch/wp-content/uploads/
 2023/12/Module-A-2024-affiche-generale_2024_23-12-22-1-pdf.jpg
CATEGORIES:Diplôme Professionnel,Pour Tous
LOCATION:Fengshui-Architecture\, Boulevard de Saint-Georges 72\, Genève\, 
 Genève\, 1205\, Suisse
GEO:46.20129;6.139088
X-APPLE-STRUCTURED-LOCATION;VALUE=URI;X-ADDRESS=Boulevard de Saint-Georges 
 72\, Genève\, Genève\, 1205\, Suisse;X-APPLE-RADIUS=100;X-TITLE=Fengshui
 -Architecture:geo:46.20129,6.139088
END:VEVENT
BEGIN:VTIMEZONE
TZID:Europe/Zurich
X-LIC-LOCATION:Europe/Zurich
BEGIN:STANDARD
DTSTART:20231029T020000
TZOFFSETFROM:+0200
TZOFFSETTO:+0100
TZNAME:CET
END:STANDARD
END:VTIMEZONE
END:VCALENDAR