BEGIN:VCALENDAR
VERSION:2.0
PRODID:-//wp-events-plugin.com//7.2.3.1//EN
TZID:Europe/Zurich
X-WR-TIMEZONE:Europe/Zurich
BEGIN:VEVENT
UID:59@chuestylefengshui.ch
DTSTART;TZID=Europe/Zurich:20180915T093000
DTEND;TZID=Europe/Zurich:20180916T173000
DTSTAMP:20180817T141409Z
URL:https://chuestylefengshui.ch/events/module-a-english/
SUMMARY:Module A (English)
DESCRIPTION:This comprehensive 2-day foundation course in Feng Shui is open
  to all those who wish to learn more about the subject. Module A sets a cl
 ear and solid base that can be applied to any Chue Style course\, regardle
 ss of whether the student has previous knowledge of Feng Shui or not. On c
 ompletion of this course\, the student will start to have a genuine unders
 tanding of this vast subject. Module A introduces important building block
 s that clarify fundamental principles that are often misunderstood from th
 e classical poems.   By the end of the 2 days\, the student will know ho
 w to make some basic changes to bring about beneficial outcomes in their o
 wn home and office environment.\n\nSUBJECTS COVERED\n\n 	What is Feng Shui
 ?\n 	Understanding Chi\n 	Different Schools\n 	Introducing Chue Style\n 	Y
 in and Yang\n 	Heaven\, Human\, Earth\n 	The Five Elements\n 	Circulation 
 of Chi\n 	Sang Chi &amp\; Sat Chi\n 	The Celestial Animals\n 	The 8 Trigra
 ms\n 	The Early and Late Heaven Sequence\n 	Lo- Shu numbers\n 	Introductio
 n to Flying Stars\n\nThese principles will stay valid during your Feng Shu
 i studies and your practice as a consultant\, as this course not only giv
 es you the fundamental principles to continue to study advanced Feng Shui
 . It also gives you the basis for other disciplines in Chue Style Feng Shu
 i such as Chinese Horoscopes (Ba Zi)\, Date Selections\, I Ching\, Face &
 amp\; Body Reading and Qigong.\n\nPrice : 340.- for 2 days\n\nContact : U
 ptitude Feng Shui\, Céline Rey-Stump. Mobile +41 79 290 17 05. Email : ce
 line@uptitude.ch\n\n&nbsp\;
CATEGORIES:Diplôme Professionnel
END:VEVENT
BEGIN:VTIMEZONE
TZID:Europe/Zurich
X-LIC-LOCATION:Europe/Zurich
BEGIN:DAYLIGHT
DTSTART:20180325T030000
TZOFFSETFROM:+0100
TZOFFSETTO:+0200
TZNAME:CEST
END:DAYLIGHT
END:VTIMEZONE
END:VCALENDAR