BEGIN:VCALENDAR
VERSION:2.0
PRODID:-//wp-events-plugin.com//7.2.3.1//EN
TZID:Europe/Zurich
X-WR-TIMEZONE:Europe/Zurich
BEGIN:VEVENT
UID:31@chuestylefengshui.ch
DTSTART;TZID=Europe/Zurich:20171028T093000
DTEND;TZID=Europe/Zurich:20171029T173000
DTSTAMP:20170825T160207Z
URL:https://chuestylefengshui.ch/events/module-a-part-1-2/
SUMMARY:Module A (Part. 2)
DESCRIPTION:
CATEGORIES:Pour Tous
LOCATION:Boutique ARTMONY\, Rue Neuve 2\, Ste-Croix\, 1450\, Suisse
X-APPLE-STRUCTURED-LOCATION;VALUE=URI;X-ADDRESS=Rue Neuve 2\, Ste-Croix\, 1
 450\, Suisse;X-APPLE-RADIUS=100;X-TITLE=Boutique ARTMONY:geo:0,0
END:VEVENT
BEGIN:VTIMEZONE
TZID:Europe/Zurich
X-LIC-LOCATION:Europe/Zurich
BEGIN:DAYLIGHT
DTSTART:20170326T030000
TZOFFSETFROM:+0100
TZOFFSETTO:+0200
TZNAME:CEST
END:DAYLIGHT
BEGIN:STANDARD
DTSTART:20171029T020000
TZOFFSETFROM:+0200
TZOFFSETTO:+0100
TZNAME:CET
END:STANDARD
END:VTIMEZONE
END:VCALENDAR