BEGIN:VCALENDAR
VERSION:2.0
PRODID:-//wp-events-plugin.com//7.2.3.1//EN
TZID:Europe/Zurich
X-WR-TIMEZONE:Europe/Zurich
BEGIN:VEVENT
UID:76@chuestylefengshui.ch
DTSTART;TZID=Europe/Zurich:20190406T093000
DTEND;TZID=Europe/Zurich:20190407T173000
DTSTAMP:20190130T105325Z
URL:https://chuestylefengshui.ch/events/module-b-session-2-6/
SUMMARY:Module B - session 2
DESCRIPTION:Ce cours de niveau 2 est ouvert aux personnes ayant suivi le Mo
 dule A. Enseignement agréé par la Fondation Chue\, fondateur Me Chan Ku
 n Wah\n\nProgramme :\n\nLes 8 trigrammes\nStratégie de la méthode « San
 g Sit »\nMéthode Ba Chop – Intérieur et Extérieur\nTiges et Branches
 \nLes 24 montagnes\nLes 9 malédictions de Maître Young\nLes étoiles vol
 antes de la méthode Sam Yuen\nLes étoiles volantes de la méthode Yuen H
 om\nLes étoiles volantes de l’année et du mois\nApplications pratiques
 \n\nRépartit sur 4 sessions de 2 jours.\n\n1ere session : Mars 9-10\n2èm
 e session : Avril 6-7\n3ème session : Mai 11-12\n4ème session : Mai 22-2
 3\n\n48h de cours\, CHF 1’860.—.\nRèglement possible en 4 acomptes à
  verser avant le début du cours.\n\nEnseignant agréé pour ce cours : Br
 igitte Jan  Contact: brigitte.jan@bluewin.ch
CATEGORIES:Diplôme Professionnel
LOCATION:Swissfengshui\, Rue Neuve 2\, Sainte Croix\, 1450\, Suisse
GEO:46.8234438;6.501037999999994
X-APPLE-STRUCTURED-LOCATION;VALUE=URI;X-ADDRESS=Rue Neuve 2\, Sainte Croix\
 , 1450\, Suisse;X-APPLE-RADIUS=100;X-TITLE=Swissfengshui:geo:46.8234438,6.
 501037999999994
END:VEVENT
BEGIN:VTIMEZONE
TZID:Europe/Zurich
X-LIC-LOCATION:Europe/Zurich
BEGIN:DAYLIGHT
DTSTART:20190331T030000
TZOFFSETFROM:+0100
TZOFFSETTO:+0200
TZNAME:CEST
END:DAYLIGHT
END:VTIMEZONE
END:VCALENDAR