BEGIN:VCALENDAR
VERSION:2.0
PRODID:-//wp-events-plugin.com//7.2.3.1//EN
TZID:Europe/Zurich
X-WR-TIMEZONE:Europe/Zurich
BEGIN:VEVENT
UID:108@chuestylefengshui.ch
DTSTART;TZID=Europe/Zurich:20210129T090000
DTEND;TZID=Europe/Zurich:20210131T173000
DTSTAMP:20200917T165759Z
URL:https://chuestylefengshui.ch/events/module-c-session-1/
SUMMARY:Module C\, Session 1
DESCRIPTION:Minimum de 24 jours/168 heures – Certificat de présence – 
 ouvert aux étudiants qui ont terminé les modules A et B.\nCe cours de fo
 rmation professionnelle comprend une vaste théorie ainsi que des consulta
 tions pratiques. De nombreux calculs plus avancés sont ajoutés au progra
 mme déjà riche\, afin que l’étudiant puisse élargir sa compréhensio
 n des impacts du Feng Shui sur tout type de propriété\, ville ou environ
 nement urbain.\n\nAu cours du module C\, les méthodes Chue Style enseign
 ées aident à différencier le calibre de ces praticiens et consultants F
 eng Shui. Ils sont présentés dans un format complet pour guider les él
 èves dans le développement des compétences nécessaires pour identifie
 r et résoudre les problèmes lors d’une consultation.\n\nApprendre à 
 être un consultant Feng Shui nécessite de connaître les effets du temps
  dans l’espace et de comprendre le destin d’une personne. Ainsi\, le c
 alendrier de 10.000 ans est enseigné comme une base pour l’apprentissag
 e de la sélection de la date favorable et quatre piliers chinois Horoscop
 es (Ba Zi). Dans le style Chue Feng Shui nous utilisons la calligraphie ch
 inoise et la prononciation cantonaise pour la terminologie Feng Shui en cl
 asse. Nous utilisons également notre propre boussole de style Yuen Hom Ch
 ue conçue par le Grand Maître Chan.\nCe cours de 24 jours est enseigné 
 sur 8 sessions. Réservations sur :  laurent@fengshui-consultant.ch\nBRE
 F APERÇU DU PROGRAMME DE COURS :\n\n 	Calendrier de 10'000 ans\; apprend
 re à lire le calendrier\; ouvrir une date\n 	Horoscopes chinois Ba Zi –
  Construire un graphique à quatre piliers\n 	Douze palais\n 	Sam Hap Flyi
 ng Star\n 	Sam Hap Double Mountain – « Rescue the Poor »\n 	64 hexag
 rammes Yuen Hom\n 	Lap Yang Elements\n 	Numéros manquants\n 	72 dragons\,
  120 Fin Kam\n 	Ecole des Formes\n 	Les 24 étoiles célestes impériales\
 n 	Feng Shui Ruban Métrique\n 	Boussole Chue Style Yuen Hom\n 	Consultati
 ons Feng Shui : procédures\, méthodes et conclusions\n 	Placement pour 
 l’eau\nEt bien plus encore…\n\nMatériel recommandé pour la classe :
  Budget cliquez sur le lien suivant\n\n 	Calendrier de 10'000 ans\n 	Yuen 
 Hom Compas\n 	Feng Shui ruban métrique\n
ATTACH;FMTTYPE=image/jpeg:https://chuestylefengshui.ch/wp-content/uploads/
 2020/07/Capture-d’écran-2020-07-01-à-09.14.10-e1632404981230.png
CATEGORIES:Diplôme Professionnel
LOCATION:The Eastern Guardian Angel\, Rue Saint-Maurice 4\, Neuchâtel\, Su
 isse\, 2000\, Suisse\, Suisse
GEO:46.991109;6.930761
X-APPLE-STRUCTURED-LOCATION;VALUE=URI;X-ADDRESS=Rue Saint-Maurice 4\, Neuch
 âtel\, Suisse\, 2000\, Suisse\, Suisse;X-APPLE-RADIUS=100;X-TITLE=The Eas
 tern Guardian Angel:geo:46.991109,6.930761
END:VEVENT
BEGIN:VTIMEZONE
TZID:Europe/Zurich
X-LIC-LOCATION:Europe/Zurich
BEGIN:STANDARD
DTSTART:20201025T020000
TZOFFSETFROM:+0200
TZOFFSETTO:+0100
TZNAME:CET
END:STANDARD
END:VTIMEZONE
END:VCALENDAR