BEGIN:VCALENDAR
VERSION:2.0
PRODID:-//wp-events-plugin.com//7.2.3.1//EN
TZID:Europe/Zurich
X-WR-TIMEZONE:Europe/Zurich
BEGIN:VEVENT
UID:24@chuestylefengshui.ch
DTSTART;TZID=Europe/Zurich:20170610T093000
DTEND;TZID=Europe/Zurich:20170611T173000
DTSTAMP:20170404T095301Z
URL:https://chuestylefengshui.ch/events/y-king-4jrs-part-ii/
SUMMARY:Yi King avec les dés (4jrs) - Part. II
DESCRIPTION:Présentation et explication\n\nChapitre 1 : la météo\nChapit
 re 2 : Feng Shui d’une propriété \nChapitre 3 : Le mariage\nChapitre
  4 : Conception d’un enfant\nChapitre 5 : Examens et promotion scolair
 e\nChapitre 6 : L’argent\nChapitre 7 : Les vacances\nChapitre 8 : Aff
 aires et objets perdus\nChapitre 9 : Maladie ou santé\nChapitre 10 : pr
 ocès et tribunal\nChapitre 11 : Le destin personnel\n\nCours en deux par
 ties 27 et 28 mai et 10 et 11 juin 2017\n\n24 heures de cours 				 CHF 1
 ’080.--\nPaiement possible par acompte\, soit 2 x CHF 540. —à verser 
 avant le début du cours\n\nEnseignement par Laurent Paillard\, agréé pa
 r la Fondation Chue\, fondateur Me Chan Kun Wah. Contact : Tel +41 79 301.
 29.02
ATTACH;FMTTYPE=image/jpeg:https://chuestylefengshui.ch/wp-content/uploads/
 2017/02/P1060293-e1491296776502.jpg
CATEGORIES:Pour Tous
LOCATION:The Eastern Guardian Angel\, Rue Saint-Maurice 4\, Neuchâtel\, Su
 isse\, 2000\, Suisse\, Suisse
GEO:46.991109;6.930761
X-APPLE-STRUCTURED-LOCATION;VALUE=URI;X-ADDRESS=Rue Saint-Maurice 4\, Neuch
 âtel\, Suisse\, 2000\, Suisse\, Suisse;X-APPLE-RADIUS=100;X-TITLE=The Eas
 tern Guardian Angel:geo:46.991109,6.930761
END:VEVENT
BEGIN:VTIMEZONE
TZID:Europe/Zurich
X-LIC-LOCATION:Europe/Zurich
BEGIN:DAYLIGHT
DTSTART:20170326T030000
TZOFFSETFROM:+0100
TZOFFSETTO:+0200
TZNAME:CEST
END:DAYLIGHT
END:VTIMEZONE
END:VCALENDAR