BEGIN:VCALENDAR
VERSION:2.0
PRODID:-//wp-events-plugin.com//7.2.3.1//EN
TZID:Europe/Zurich
X-WR-TIMEZONE:Europe/Zurich
BEGIN:VEVENT
UID:18@chuestylefengshui.ch
DTSTART;TZID=Europe/Zurich:20170506T093000
DTEND;TZID=Europe/Zurich:20170507T173000
DTSTAMP:20170404T094156Z
URL:https://chuestylefengshui.ch/events/yi-king-3x-2-jrs/
SUMMARY:Yi King (Part. I)
DESCRIPTION:6 – 7 mai / 27 – 28 août / 24 – 25 septembre\n\nLe Yi Ki
 ng signifie le livre du changement. Le Yi King ne prédit rien\, mais orie
 nte le consultant vers le centre\, un centrage sur soi\, afin de mettre en
  lumière les possibilités offertes.\n\nC’est-à-dire que les tirages q
 ue nous allons apprendre à effectuer nous guideront vers une introspectio
 n afin de nous éclairer sur les décisions à prendre. Pour cela\, nous s
 erons guidés aux travers des trigrammes et des hexagrammes.Le tirage des 
 hexagrammes est facilité par l’utilisation de dés développés par Gra
 nd Master Chan Kun Wah.\n\nCe cours intensif et très complet est divisé 
 en 6 journées. D’abord deux jours de formation de base afin de connaît
 re l’usage du calendrier chinois\, les tiges et branches\, les trigramme
 s\, les cycles de construction et de contrôle et les différentes combina
 isons et alliances. Ensuite nous aborderons des tirages sur les grands th
 èmes de la vie\, tels que l’argent\, le mariage\, les enfants\, les aff
 aires\, la santé\, les examens\, les procès\, l’harmonie d’une propr
 iété (feng shui) et notre destinée personnelle.\n\nSi le contenu de la 
 base du cours est connu\, à savoir l’usage du calendrier chinois\, il e
 st possible de s’inscrire directement aux 4 journées consacrées au tir
 age et à l’interprétation du Yi King.\n\nLaurent Paillard a été form
 é par Grand Master Chan. Il est accrédité pour enseigner ce sujet fasci
 nant. Il enseignera les 4 jours de tirages \; Magali Weiss enseignera les 
 2 jours de formation préalable.\n\nContact : Magali Weiss\nTél. : +4122 
 772 00 65\nMobile : +4179 219 86 21
CATEGORIES:Postgrade
LOCATION:Morges\, Passage de la Couronne 2\, 1110 Morges\, 1110\, Morges\, 
 Suisse
GEO:46.50848329999999;6.497201600000039
X-APPLE-STRUCTURED-LOCATION;VALUE=URI;X-ADDRESS=Passage de la Couronne 2\, 
 1110 Morges\, 1110\, Morges\, Suisse;X-APPLE-RADIUS=100;X-TITLE=Morges:geo
 :46.50848329999999,6.497201600000039
END:VEVENT
BEGIN:VTIMEZONE
TZID:Europe/Zurich
X-LIC-LOCATION:Europe/Zurich
BEGIN:DAYLIGHT
DTSTART:20170326T030000
TZOFFSETFROM:+0100
TZOFFSETTO:+0200
TZNAME:CEST
END:DAYLIGHT
END:VTIMEZONE
END:VCALENDAR